BEGIN:VCALENDAR
VERSION:2.0
PRODID:-//Contratero//ES
CALSCALE:GREGORIAN
METHOD:PUBLISH
BEGIN:VEVENT
UID:SER-27/22 NA@contratero.es
DTSTAMP:20260423T044446Z
DTSTART:20220503T235959
DTEND:20220504T005959
SUMMARY:Cierre: Servicio de mantenimiento  de software de lectura 
DESCRIPTION:Servicio de mantenimiento  de software de lectura de la energía eléctrica en los edificios de Tecnogetafe\\n\\nOrganismo: Rectorado de la Universidad Politécnica de Madrid\\n\\nVer en Contratero: https://contratero.es/contracts/SER-27/22 NA
URL:https://contratero.es/contracts/SER-27/22 NA
STATUS:CONFIRMED
BEGIN:VALARM
TRIGGER:-P1D
ACTION:DISPLAY
DESCRIPTION:Recordatorio: Servicio de mantenimiento  de 
END:VALARM
END:VEVENT
END:VCALENDAR